BEGIN:VCALENDAR
VERSION:2.0
PRODID:-//KSV Hohenlimburg 1921 e.V. - ECPv6.15.20//NONSGML v1.0//EN
CALSCALE:GREGORIAN
METHOD:PUBLISH
X-WR-CALNAME:KSV Hohenlimburg 1921 e.V.
X-ORIGINAL-URL:https://www.ksv-hohenlimburg.de
X-WR-CALDESC:Veranstaltungen für KSV Hohenlimburg 1921 e.V.
REFRESH-INTERVAL;VALUE=DURATION:PT1H
X-Robots-Tag:noindex
X-PUBLISHED-TTL:PT1H
BEGIN:VTIMEZONE
TZID:Europe/Berlin
BEGIN:DAYLIGHT
TZOFFSETFROM:+0100
TZOFFSETTO:+0200
TZNAME:CEST
DTSTART:20190331T010000
END:DAYLIGHT
BEGIN:STANDARD
TZOFFSETFROM:+0200
TZOFFSETTO:+0100
TZNAME:CET
DTSTART:20191027T010000
END:STANDARD
BEGIN:DAYLIGHT
TZOFFSETFROM:+0100
TZOFFSETTO:+0200
TZNAME:CEST
DTSTART:20200329T010000
END:DAYLIGHT
BEGIN:STANDARD
TZOFFSETFROM:+0200
TZOFFSETTO:+0100
TZNAME:CET
DTSTART:20201025T010000
END:STANDARD
BEGIN:DAYLIGHT
TZOFFSETFROM:+0100
TZOFFSETTO:+0200
TZNAME:CEST
DTSTART:20210328T010000
END:DAYLIGHT
BEGIN:STANDARD
TZOFFSETFROM:+0200
TZOFFSETTO:+0100
TZNAME:CET
DTSTART:20211031T010000
END:STANDARD
END:VTIMEZONE
BEGIN:VEVENT
DTSTART;TZID=Europe/Berlin:20201012T190000
DTEND;TZID=Europe/Berlin:20201012T210000
DTSTAMP:20260424T213543
CREATED:20200120T111658Z
LAST-MODIFIED:20201005T153943Z
UID:818-1602529200-1602536400@www.ksv-hohenlimburg.de
SUMMARY:Jahreshauptversammlung 2020
DESCRIPTION:Sehr geehrte Mitglieder\, \nnachdem der ursprüngliche Termin im März coronabedingt abgesagt werden musste\, wird die JHV nun am Montag\, den 12. Oktober um 19 Uhr nachgeholt. \nDie Tagesordnung entnehmt bitte der angehängten PDF-Datei.  \nEinladung JHV 2020
URL:https://www.ksv-hohenlimburg.de/event/jahreshauptversammlung/
LOCATION:Gaststätte Limmeg\, Gaußstr. 5\, Hagen\, 58119\, Deutschland
CATEGORIES:Allgemein
ATTACH;FMTTYPE=image/jpeg:https://www.ksv-hohenlimburg.de/wp/wp-content/uploads/2020/01/JHV2020.jpg
ORGANIZER;CN="KSV Hohenlimburg 1921 e.V.":MAILTO:info@ksv-hohenlimburg.de
END:VEVENT
END:VCALENDAR